BEGIN:VCALENDAR
VERSION:2.0
PRODID:-//YogiBelle - ECPv6.15.20//NONSGML v1.0//EN
CALSCALE:GREGORIAN
METHOD:PUBLISH
X-WR-CALNAME:YogiBelle
X-ORIGINAL-URL:https://yogibelle.com
X-WR-CALDESC:Events for YogiBelle
REFRESH-INTERVAL;VALUE=DURATION:PT1H
X-Robots-Tag:noindex
X-PUBLISHED-TTL:PT1H
BEGIN:VTIMEZONE
TZID:America/New_York
BEGIN:DAYLIGHT
TZOFFSETFROM:-0500
TZOFFSETTO:-0400
TZNAME:EDT
DTSTART:20250309T070000
END:DAYLIGHT
BEGIN:STANDARD
TZOFFSETFROM:-0400
TZOFFSETTO:-0500
TZNAME:EST
DTSTART:20251102T060000
END:STANDARD
BEGIN:DAYLIGHT
TZOFFSETFROM:-0500
TZOFFSETTO:-0400
TZNAME:EDT
DTSTART:20260308T070000
END:DAYLIGHT
BEGIN:STANDARD
TZOFFSETFROM:-0400
TZOFFSETTO:-0500
TZNAME:EST
DTSTART:20261101T060000
END:STANDARD
BEGIN:DAYLIGHT
TZOFFSETFROM:-0500
TZOFFSETTO:-0400
TZNAME:EDT
DTSTART:20270314T070000
END:DAYLIGHT
BEGIN:STANDARD
TZOFFSETFROM:-0400
TZOFFSETTO:-0500
TZNAME:EST
DTSTART:20271107T060000
END:STANDARD
END:VTIMEZONE
BEGIN:VEVENT
DTSTART;TZID=America/New_York:20260214T100000
DTEND;TZID=America/New_York:20260214T110000
DTSTAMP:20260422T141825
CREATED:20260131T041048Z
LAST-MODIFIED:20260131T041152Z
UID:10002954-1771063200-1771066800@yogibelle.com
SUMMARY:Vinyasa Flow with Yogibelle
DESCRIPTION:Accesible yoga.\n\n\n\n\nWe must do yoga! All levels welcomed but this will be a vinyasa flow-continuous flow with a little twist.  No equipment or experience is needed; just your body\, mind and energy. Extra mats\, blocks\, straps and blankets will be available.
URL:https://yogibelle.com/event/vinyasa-flow-with-yogibelle-5/
LOCATION:Philadelphia Presbyterian Church\, 11501 Bain School Road\, Mint Hill\, North Carolina\, 28227\, United States
ATTACH;FMTTYPE=image/jpeg:https://yogibelle.com/wp-content/uploads/2023/06/DSC_0482-1.jpeg
END:VEVENT
BEGIN:VEVENT
DTSTART;TZID=America/New_York:20260214T090000
DTEND;TZID=America/New_York:20260214T094500
DTSTAMP:20260422T141825
CREATED:20260131T040805Z
LAST-MODIFIED:20260131T040806Z
UID:10002950-1771059600-1771062300@yogibelle.com
SUMMARY:Gentle/Meditative Yoga with Yogibelle
DESCRIPTION:Accessible yoga. \n\n\n\n\nWe must do yoga! All levels welcomed but beginners of all ages and abilities will be helped through breathing techniques\, introductory poses\, and modifications. All you need is your body\, mind and energy. Extra mats\, blocks\, blankets and straps are available.
URL:https://yogibelle.com/event/gentle-meditative-yoga-with-yogibelle-5/
LOCATION:Philadelphia Presbyterian Church\, 11501 Bain School Road\, Mint Hill\, North Carolina\, 28227\, United States
END:VEVENT
BEGIN:VEVENT
DTSTART;TZID=America/New_York:20260207T100000
DTEND;TZID=America/New_York:20260207T110000
DTSTAMP:20260422T141825
CREATED:20260131T041022Z
LAST-MODIFIED:20260131T041024Z
UID:10002953-1770458400-1770462000@yogibelle.com
SUMMARY:Vinyasa Flow with Yogibelle
DESCRIPTION:Accesible yoga.\n\n\n\n\nWe must do yoga! All levels welcomed but this will be a vinyasa flow-continuous flow with a little twist.  No equipment or experience is needed; just your body\, mind and energy. Extra mats\, blocks\, straps and blankets will be available.
URL:https://yogibelle.com/event/vinyasa-flow-with-yogibelle-4/
LOCATION:Philadelphia Presbyterian Church\, 11501 Bain School Road\, Mint Hill\, North Carolina\, 28227\, United States
ATTACH;FMTTYPE=image/jpeg:https://yogibelle.com/wp-content/uploads/2023/06/DSC_0482-1.jpeg
END:VEVENT
BEGIN:VEVENT
DTSTART;TZID=America/New_York:20260207T090000
DTEND;TZID=America/New_York:20260207T094500
DTSTAMP:20260422T141825
CREATED:20260131T040706Z
LAST-MODIFIED:20260131T040709Z
UID:10002949-1770454800-1770457500@yogibelle.com
SUMMARY:Gentle/Meditative Yoga with Yogibelle
DESCRIPTION:Accessible yoga. \n\n\n\n\nWe must do yoga! All levels welcomed but beginners of all ages and abilities will be helped through breathing techniques\, introductory poses\, and modifications. All you need is your body\, mind and energy. Extra mats\, blocks\, blankets and straps are available.
URL:https://yogibelle.com/event/gentle-meditative-yoga-with-yogibelle-4/
LOCATION:Philadelphia Presbyterian Church\, 11501 Bain School Road\, Mint Hill\, North Carolina\, 28227\, United States
END:VEVENT
BEGIN:VEVENT
DTSTART;TZID=America/New_York:20260131T100000
DTEND;TZID=America/New_York:20260131T110000
DTSTAMP:20260422T141825
CREATED:20260107T040529Z
LAST-MODIFIED:20260131T012813Z
UID:10002948-1769853600-1769857200@yogibelle.com
SUMMARY:"5th Saturday" Restorative Yoga with Yogibelle
DESCRIPTION:Accessible yoga.\n\n\n\n\nThis class will be infused with breath work\, meditation\, singing bowls\, a steel octave tongue drum\, and a rain wheel!  \n\n\n\nFun fact- Did you know our bodies were made of 70% water\, readily absorbing sound vibrations\, making sound healing effective as these frequencies resonate through your fluid-filled tissues\, promoting relaxation\, reducing stress hormones like cortisol\, boosting feel-good endorphins\, and activating the parasympathetic nervous system for deep rest and cellular rejuvenation\, similar to how water responds to sound frequencies.   \n\n\n\nJoin me for a deep\, restorative stretching supports your body to be able to work\, play\, exercise and live life to the fullest! Focus on breathing and longer pose holds using a chair and/or mat\, plus pillows\, bolsters and blankets for extra support. Conclude practice in your favorite resting pose with a lavender eye pillow.  Please bring extra blankets\, pillows and supports to make you feel as comfy as possible!
URL:https://yogibelle.com/event/5th-saturday-restorative-yoga-with-yogibelle/2026-01-31/
LOCATION:Philadelphia Presbyterian Church\, 11501 Bain School Road\, Mint Hill\, North Carolina\, 28227\, United States
ATTACH;FMTTYPE=image/jpeg:https://yogibelle.com/wp-content/uploads/2023/06/DSC_0482-1.jpeg
END:VEVENT
BEGIN:VEVENT
DTSTART;TZID=America/New_York:20260124T100000
DTEND;TZID=America/New_York:20260124T110000
DTSTAMP:20260422T141825
CREATED:20260107T034831Z
LAST-MODIFIED:20260113T024937Z
UID:10002946-1769248800-1769252400@yogibelle.com
SUMMARY:Vinyasa Flow with Yogibelle
DESCRIPTION:Accessible yoga.\n\n\n\n\nWe must do yoga! All levels welcomed but this will be a vinyasa flow-continuous flow with a little twist.  No equipment or experience is needed; just your body\, mind and energy. Extra mats\, blocks\, straps and blankets will be available.
URL:https://yogibelle.com/event/vinyasa-flow-with-yogibelle-3/
LOCATION:Philadelphia Presbyterian Church\, 11501 Bain School Road\, Mint Hill\, North Carolina\, 28227\, United States
ATTACH;FMTTYPE=image/jpeg:https://yogibelle.com/wp-content/uploads/2023/06/DSC_0482-1.jpeg
END:VEVENT
BEGIN:VEVENT
DTSTART;TZID=America/New_York:20260124T090000
DTEND;TZID=America/New_York:20260124T094500
DTSTAMP:20260422T141825
CREATED:20260107T034556Z
LAST-MODIFIED:20260113T024834Z
UID:10002945-1769245200-1769247900@yogibelle.com
SUMMARY:Gentle/Meditative Yoga with Yogibelle
DESCRIPTION:Accessible yoga. \n\n\n\n\nWe must do yoga! All levels welcomed but beginners of all ages and abilities will be helped through breathing techniques\, introductory poses\, and modifications. All you need is your body\, mind and energy. Extra mats\, blocks\, blankets and straps are available.
URL:https://yogibelle.com/event/gentle-meditative-yoga-with-yogibelle-3/
LOCATION:Philadelphia Presbyterian Church\, 11501 Bain School Road\, Mint Hill\, North Carolina\, 28227\, United States
END:VEVENT
BEGIN:VEVENT
DTSTART;TZID=America/New_York:20260117T100000
DTEND;TZID=America/New_York:20260117T110000
DTSTAMP:20260422T141825
CREATED:20260107T033539Z
LAST-MODIFIED:20260113T024724Z
UID:10002944-1768644000-1768647600@yogibelle.com
SUMMARY:Vinyasa Flow with Yogibelle
DESCRIPTION:Accessible yoga.\n\n\n\n\nWe must do yoga! All levels welcomed but this will be a vinyasa flow-continuous flow with a little twist. No equipment or experience is needed; just your body\, mind and energy. Extra mats\, blocks\, straps and blankets will be available.
URL:https://yogibelle.com/event/vinyasa-flow-with-yogibelle-2/
LOCATION:Philadelphia Presbyterian Church\, 11501 Bain School Road\, Mint Hill\, North Carolina\, 28227\, United States
ATTACH;FMTTYPE=image/jpeg:https://yogibelle.com/wp-content/uploads/2023/06/DSC_0482-1.jpeg
END:VEVENT
BEGIN:VEVENT
DTSTART;TZID=America/New_York:20260117T090000
DTEND;TZID=America/New_York:20260117T094500
DTSTAMP:20260422T141825
CREATED:20260107T033452Z
LAST-MODIFIED:20260113T024629Z
UID:10002943-1768640400-1768643100@yogibelle.com
SUMMARY:Gentle/Meditative Yoga with Yogibelle
DESCRIPTION:Accessible yoga. \n\n\n\n\nWe must do yoga! All levels welcomed but beginners of all ages and abilities will be helped through breathing techniques\, introductory poses\, and modifications. All you need is your body\, mind and energy. Extra mats\, blocks\, blankets and straps are available.
URL:https://yogibelle.com/event/gentle-meditative-yoga-with-yogibelle-2/
LOCATION:Philadelphia Presbyterian Church\, 11501 Bain School Road\, Mint Hill\, North Carolina\, 28227\, United States
END:VEVENT
BEGIN:VEVENT
DTSTART;TZID=America/New_York:20260110T100000
DTEND;TZID=America/New_York:20260110T110000
DTSTAMP:20260422T141825
CREATED:20260106T004956Z
LAST-MODIFIED:20260131T040946Z
UID:10000686-1768039200-1768042800@yogibelle.com
SUMMARY:Vinyasa Flow with Yogibelle
DESCRIPTION:Accesible yoga.\n\n\n\n\nWe must do yoga! All levels welcomed but this will be a vinyasa flow-continuous flow with a little twist.  No equipment or experience is needed; just your body\, mind and energy. Extra mats\, blocks\, straps and blankets will be available.
URL:https://yogibelle.com/event/vinyasa-flow-with-yogibelle/
LOCATION:Philadelphia Presbyterian Church\, 11501 Bain School Road\, Mint Hill\, North Carolina\, 28227\, United States
ATTACH;FMTTYPE=image/jpeg:https://yogibelle.com/wp-content/uploads/2023/06/DSC_0482-1.jpeg
END:VEVENT
BEGIN:VEVENT
DTSTART;TZID=America/New_York:20260110T090000
DTEND;TZID=America/New_York:20260110T094500
DTSTAMP:20260422T141825
CREATED:20260106T010355Z
LAST-MODIFIED:20260109T035148Z
UID:10002401-1768035600-1768038300@yogibelle.com
SUMMARY:Gentle/Meditative Yoga with Yogibelle
DESCRIPTION:Accessible yoga. \n\n\n\n\nWe must do yoga! All levels welcomed but beginners of all ages and abilities will be helped through breathing techniques\, introductory poses\, and modifications. All you need is your body\, mind and energy. Extra mats\, blocks\, blankets and straps are available.
URL:https://yogibelle.com/event/gentle-meditative-yoga-with-yogibelle/
LOCATION:Philadelphia Presbyterian Church\, 11501 Bain School Road\, Mint Hill\, North Carolina\, 28227\, United States
END:VEVENT
END:VCALENDAR