BEGIN:VCALENDAR
VERSION:2.0
PRODID:-//YogiBelle - ECPv6.15.20//NONSGML v1.0//EN
CALSCALE:GREGORIAN
METHOD:PUBLISH
X-ORIGINAL-URL:https://yogibelle.com
X-WR-CALDESC:Events for YogiBelle
REFRESH-INTERVAL;VALUE=DURATION:PT1H
X-Robots-Tag:noindex
X-PUBLISHED-TTL:PT1H
BEGIN:VTIMEZONE
TZID:America/New_York
BEGIN:DAYLIGHT
TZOFFSETFROM:-0500
TZOFFSETTO:-0400
TZNAME:EDT
DTSTART:20230312T070000
END:DAYLIGHT
BEGIN:STANDARD
TZOFFSETFROM:-0400
TZOFFSETTO:-0500
TZNAME:EST
DTSTART:20231105T060000
END:STANDARD
BEGIN:DAYLIGHT
TZOFFSETFROM:-0500
TZOFFSETTO:-0400
TZNAME:EDT
DTSTART:20240310T070000
END:DAYLIGHT
BEGIN:STANDARD
TZOFFSETFROM:-0400
TZOFFSETTO:-0500
TZNAME:EST
DTSTART:20241103T060000
END:STANDARD
BEGIN:DAYLIGHT
TZOFFSETFROM:-0500
TZOFFSETTO:-0400
TZNAME:EDT
DTSTART:20250309T070000
END:DAYLIGHT
BEGIN:STANDARD
TZOFFSETFROM:-0400
TZOFFSETTO:-0500
TZNAME:EST
DTSTART:20251102T060000
END:STANDARD
BEGIN:DAYLIGHT
TZOFFSETFROM:-0500
TZOFFSETTO:-0400
TZNAME:EDT
DTSTART:20260308T070000
END:DAYLIGHT
BEGIN:STANDARD
TZOFFSETFROM:-0400
TZOFFSETTO:-0500
TZNAME:EST
DTSTART:20261101T060000
END:STANDARD
END:VTIMEZONE
BEGIN:VEVENT
DTSTART;TZID=America/New_York:20250201T090000
DTEND;TZID=America/New_York:20250201T094500
DTSTAMP:20260424T191543
CREATED:20220206T012048Z
LAST-MODIFIED:20251110T013923Z
UID:10000378-1738400400-1738403100@yogibelle.com
SUMMARY:Drop-in Gentle Yoga Class
DESCRIPTION:Seated Warrior 1 Pose… \n\n\n\n\n\n\nAll levels welcomed but beginners of all ages and abilities will be helped through breathing techniques\, introductory poses\, and modifications. No equipment or experience is needed; just your body\, mind and energy.  You can use a mat or a chair\, blocks\, bolsters and bands for modifications.
URL:https://yogibelle.com/event/community-yoga-stevens-creek-nature-center/2025-02-01/
LOCATION:Bella Terra\, 8920 Mill Grove Road\, Indian Trial\, North Carolina\, 28104\, United States
ATTACH;FMTTYPE=image/jpeg:https://yogibelle.com/wp-content/uploads/2023/06/IMG_8384-2-scaled.jpg
END:VEVENT
BEGIN:VEVENT
DTSTART;TZID=America/New_York:20250125T100000
DTEND;TZID=America/New_York:20250125T110000
DTSTAMP:20260424T191543
CREATED:20250813T025107Z
LAST-MODIFIED:20251110T013711Z
UID:10001353-1737799200-1737802800@yogibelle.com
SUMMARY:Drop-in all levels community vinyasa yoga
DESCRIPTION:Supported Triangle Pose… \n\n\n\n\nWe must do yoga!  All levels welcomed but beginners of all ages and abilities will be helped through breathing techniques\, introductory poses\, and modifications.  No equipment or experience is needed; just your body\, mind and energy.  We will practice in the community room during the winter months\, indoor/outdoor during the spring\, and outdoor in the summer when weather permits.
URL:https://yogibelle.com/event/drop-in-all-levels-community-vinyasa-yoga-2/2025-01-25/
LOCATION:Bella Terra\, 8920 Mill Grove Road\, Indian Trial\, North Carolina\, 28104\, United States
ATTACH;FMTTYPE=image/jpeg:https://yogibelle.com/wp-content/uploads/2024/03/IMG_3210-edited-scaled.jpg
END:VEVENT
BEGIN:VEVENT
DTSTART;TZID=America/New_York:20250125T090000
DTEND;TZID=America/New_York:20250125T094500
DTSTAMP:20260424T191543
CREATED:20251110T014005Z
LAST-MODIFIED:20251110T014052Z
UID:10001625-1737795600-1737798300@yogibelle.com
SUMMARY:Drop-in Gentle Yoga Class
DESCRIPTION:All levels welcomed but beginners of all ages and abilities will be helped through breathing techniques\, introductory poses\, and modifications. No equipment or experience is needed; just your body\, mind and energy.  You can use a mat or a chair\, blocks\, bolsters and bands for modifications.
URL:https://yogibelle.com/event/drop-in-gentle-yoga-class/2025-01-25/
LOCATION:Bella Terra\, 8920 Mill Grove Road\, Indian Trial\, North Carolina\, 28104\, United States
ATTACH;FMTTYPE=image/jpeg:https://yogibelle.com/wp-content/uploads/2023/06/IMG_8384-2-scaled.jpg
END:VEVENT
BEGIN:VEVENT
DTSTART;TZID=America/New_York:20250125T090000
DTEND;TZID=America/New_York:20250125T094500
DTSTAMP:20260424T191543
CREATED:20220206T012048Z
LAST-MODIFIED:20251110T013923Z
UID:10000377-1737795600-1737798300@yogibelle.com
SUMMARY:Drop-in Gentle Yoga Class
DESCRIPTION:Seated Warrior 1 Pose… \n\n\n\n\n\n\nAll levels welcomed but beginners of all ages and abilities will be helped through breathing techniques\, introductory poses\, and modifications. No equipment or experience is needed; just your body\, mind and energy.  You can use a mat or a chair\, blocks\, bolsters and bands for modifications.
URL:https://yogibelle.com/event/community-yoga-stevens-creek-nature-center/2025-01-25/
LOCATION:Bella Terra\, 8920 Mill Grove Road\, Indian Trial\, North Carolina\, 28104\, United States
ATTACH;FMTTYPE=image/jpeg:https://yogibelle.com/wp-content/uploads/2023/06/IMG_8384-2-scaled.jpg
END:VEVENT
BEGIN:VEVENT
DTSTART;TZID=America/New_York:20250118T100000
DTEND;TZID=America/New_York:20250118T110000
DTSTAMP:20260424T191543
CREATED:20250813T025107Z
LAST-MODIFIED:20251110T013711Z
UID:10001352-1737194400-1737198000@yogibelle.com
SUMMARY:Drop-in all levels community vinyasa yoga
DESCRIPTION:Supported Triangle Pose… \n\n\n\n\nWe must do yoga!  All levels welcomed but beginners of all ages and abilities will be helped through breathing techniques\, introductory poses\, and modifications.  No equipment or experience is needed; just your body\, mind and energy.  We will practice in the community room during the winter months\, indoor/outdoor during the spring\, and outdoor in the summer when weather permits.
URL:https://yogibelle.com/event/drop-in-all-levels-community-vinyasa-yoga-2/2025-01-18/
LOCATION:Bella Terra\, 8920 Mill Grove Road\, Indian Trial\, North Carolina\, 28104\, United States
ATTACH;FMTTYPE=image/jpeg:https://yogibelle.com/wp-content/uploads/2024/03/IMG_3210-edited-scaled.jpg
END:VEVENT
BEGIN:VEVENT
DTSTART;TZID=America/New_York:20250118T090000
DTEND;TZID=America/New_York:20250118T094500
DTSTAMP:20260424T191543
CREATED:20251110T014005Z
LAST-MODIFIED:20251110T014052Z
UID:10001624-1737190800-1737193500@yogibelle.com
SUMMARY:Drop-in Gentle Yoga Class
DESCRIPTION:All levels welcomed but beginners of all ages and abilities will be helped through breathing techniques\, introductory poses\, and modifications. No equipment or experience is needed; just your body\, mind and energy.  You can use a mat or a chair\, blocks\, bolsters and bands for modifications.
URL:https://yogibelle.com/event/drop-in-gentle-yoga-class/2025-01-18/
LOCATION:Bella Terra\, 8920 Mill Grove Road\, Indian Trial\, North Carolina\, 28104\, United States
ATTACH;FMTTYPE=image/jpeg:https://yogibelle.com/wp-content/uploads/2023/06/IMG_8384-2-scaled.jpg
END:VEVENT
BEGIN:VEVENT
DTSTART;TZID=America/New_York:20250118T090000
DTEND;TZID=America/New_York:20250118T094500
DTSTAMP:20260424T191543
CREATED:20220206T012048Z
LAST-MODIFIED:20251110T013923Z
UID:10000376-1737190800-1737193500@yogibelle.com
SUMMARY:Drop-in Gentle Yoga Class
DESCRIPTION:Seated Warrior 1 Pose… \n\n\n\n\n\n\nAll levels welcomed but beginners of all ages and abilities will be helped through breathing techniques\, introductory poses\, and modifications. No equipment or experience is needed; just your body\, mind and energy.  You can use a mat or a chair\, blocks\, bolsters and bands for modifications.
URL:https://yogibelle.com/event/community-yoga-stevens-creek-nature-center/2025-01-18/
LOCATION:Bella Terra\, 8920 Mill Grove Road\, Indian Trial\, North Carolina\, 28104\, United States
ATTACH;FMTTYPE=image/jpeg:https://yogibelle.com/wp-content/uploads/2023/06/IMG_8384-2-scaled.jpg
END:VEVENT
BEGIN:VEVENT
DTSTART;TZID=America/New_York:20250111T100000
DTEND;TZID=America/New_York:20250111T110000
DTSTAMP:20260424T191543
CREATED:20250813T025107Z
LAST-MODIFIED:20251110T013711Z
UID:10001351-1736589600-1736593200@yogibelle.com
SUMMARY:Drop-in all levels community vinyasa yoga
DESCRIPTION:Supported Triangle Pose… \n\n\n\n\nWe must do yoga!  All levels welcomed but beginners of all ages and abilities will be helped through breathing techniques\, introductory poses\, and modifications.  No equipment or experience is needed; just your body\, mind and energy.  We will practice in the community room during the winter months\, indoor/outdoor during the spring\, and outdoor in the summer when weather permits.
URL:https://yogibelle.com/event/drop-in-all-levels-community-vinyasa-yoga-2/2025-01-11/
LOCATION:Bella Terra\, 8920 Mill Grove Road\, Indian Trial\, North Carolina\, 28104\, United States
ATTACH;FMTTYPE=image/jpeg:https://yogibelle.com/wp-content/uploads/2024/03/IMG_3210-edited-scaled.jpg
END:VEVENT
BEGIN:VEVENT
DTSTART;TZID=America/New_York:20250111T090000
DTEND;TZID=America/New_York:20250111T094500
DTSTAMP:20260424T191543
CREATED:20251110T014005Z
LAST-MODIFIED:20251110T014052Z
UID:10001623-1736586000-1736588700@yogibelle.com
SUMMARY:Drop-in Gentle Yoga Class
DESCRIPTION:All levels welcomed but beginners of all ages and abilities will be helped through breathing techniques\, introductory poses\, and modifications. No equipment or experience is needed; just your body\, mind and energy.  You can use a mat or a chair\, blocks\, bolsters and bands for modifications.
URL:https://yogibelle.com/event/drop-in-gentle-yoga-class/2025-01-11/
LOCATION:Bella Terra\, 8920 Mill Grove Road\, Indian Trial\, North Carolina\, 28104\, United States
ATTACH;FMTTYPE=image/jpeg:https://yogibelle.com/wp-content/uploads/2023/06/IMG_8384-2-scaled.jpg
END:VEVENT
BEGIN:VEVENT
DTSTART;TZID=America/New_York:20250111T090000
DTEND;TZID=America/New_York:20250111T094500
DTSTAMP:20260424T191543
CREATED:20220206T012048Z
LAST-MODIFIED:20251110T013923Z
UID:10000375-1736586000-1736588700@yogibelle.com
SUMMARY:Drop-in Gentle Yoga Class
DESCRIPTION:Seated Warrior 1 Pose… \n\n\n\n\n\n\nAll levels welcomed but beginners of all ages and abilities will be helped through breathing techniques\, introductory poses\, and modifications. No equipment or experience is needed; just your body\, mind and energy.  You can use a mat or a chair\, blocks\, bolsters and bands for modifications.
URL:https://yogibelle.com/event/community-yoga-stevens-creek-nature-center/2025-01-11/
LOCATION:Bella Terra\, 8920 Mill Grove Road\, Indian Trial\, North Carolina\, 28104\, United States
ATTACH;FMTTYPE=image/jpeg:https://yogibelle.com/wp-content/uploads/2023/06/IMG_8384-2-scaled.jpg
END:VEVENT
BEGIN:VEVENT
DTSTART;TZID=America/New_York:20250104T100000
DTEND;TZID=America/New_York:20250104T110000
DTSTAMP:20260424T191543
CREATED:20250813T025107Z
LAST-MODIFIED:20251110T013711Z
UID:10001350-1735984800-1735988400@yogibelle.com
SUMMARY:Drop-in all levels community vinyasa yoga
DESCRIPTION:Supported Triangle Pose… \n\n\n\n\nWe must do yoga!  All levels welcomed but beginners of all ages and abilities will be helped through breathing techniques\, introductory poses\, and modifications.  No equipment or experience is needed; just your body\, mind and energy.  We will practice in the community room during the winter months\, indoor/outdoor during the spring\, and outdoor in the summer when weather permits.
URL:https://yogibelle.com/event/drop-in-all-levels-community-vinyasa-yoga-2/2025-01-04/
LOCATION:Bella Terra\, 8920 Mill Grove Road\, Indian Trial\, North Carolina\, 28104\, United States
ATTACH;FMTTYPE=image/jpeg:https://yogibelle.com/wp-content/uploads/2024/03/IMG_3210-edited-scaled.jpg
END:VEVENT
BEGIN:VEVENT
DTSTART;TZID=America/New_York:20250104T090000
DTEND;TZID=America/New_York:20250104T094500
DTSTAMP:20260424T191543
CREATED:20251110T014005Z
LAST-MODIFIED:20251110T014052Z
UID:10001622-1735981200-1735983900@yogibelle.com
SUMMARY:Drop-in Gentle Yoga Class
DESCRIPTION:All levels welcomed but beginners of all ages and abilities will be helped through breathing techniques\, introductory poses\, and modifications. No equipment or experience is needed; just your body\, mind and energy.  You can use a mat or a chair\, blocks\, bolsters and bands for modifications.
URL:https://yogibelle.com/event/drop-in-gentle-yoga-class/2025-01-04/
LOCATION:Bella Terra\, 8920 Mill Grove Road\, Indian Trial\, North Carolina\, 28104\, United States
ATTACH;FMTTYPE=image/jpeg:https://yogibelle.com/wp-content/uploads/2023/06/IMG_8384-2-scaled.jpg
END:VEVENT
BEGIN:VEVENT
DTSTART;TZID=America/New_York:20250104T090000
DTEND;TZID=America/New_York:20250104T094500
DTSTAMP:20260424T191543
CREATED:20220206T012048Z
LAST-MODIFIED:20251110T013923Z
UID:10000374-1735981200-1735983900@yogibelle.com
SUMMARY:Drop-in Gentle Yoga Class
DESCRIPTION:Seated Warrior 1 Pose… \n\n\n\n\n\n\nAll levels welcomed but beginners of all ages and abilities will be helped through breathing techniques\, introductory poses\, and modifications. No equipment or experience is needed; just your body\, mind and energy.  You can use a mat or a chair\, blocks\, bolsters and bands for modifications.
URL:https://yogibelle.com/event/community-yoga-stevens-creek-nature-center/2025-01-04/
LOCATION:Bella Terra\, 8920 Mill Grove Road\, Indian Trial\, North Carolina\, 28104\, United States
ATTACH;FMTTYPE=image/jpeg:https://yogibelle.com/wp-content/uploads/2023/06/IMG_8384-2-scaled.jpg
END:VEVENT
BEGIN:VEVENT
DTSTART;TZID=America/New_York:20241228T100000
DTEND;TZID=America/New_York:20241228T110000
DTSTAMP:20260424T191543
CREATED:20250813T025107Z
LAST-MODIFIED:20251110T013711Z
UID:10001349-1735380000-1735383600@yogibelle.com
SUMMARY:Drop-in all levels community vinyasa yoga
DESCRIPTION:Supported Triangle Pose… \n\n\n\n\nWe must do yoga!  All levels welcomed but beginners of all ages and abilities will be helped through breathing techniques\, introductory poses\, and modifications.  No equipment or experience is needed; just your body\, mind and energy.  We will practice in the community room during the winter months\, indoor/outdoor during the spring\, and outdoor in the summer when weather permits.
URL:https://yogibelle.com/event/drop-in-all-levels-community-vinyasa-yoga-2/2024-12-28/
LOCATION:Bella Terra\, 8920 Mill Grove Road\, Indian Trial\, North Carolina\, 28104\, United States
ATTACH;FMTTYPE=image/jpeg:https://yogibelle.com/wp-content/uploads/2024/03/IMG_3210-edited-scaled.jpg
END:VEVENT
BEGIN:VEVENT
DTSTART;TZID=America/New_York:20241228T090000
DTEND;TZID=America/New_York:20241228T094500
DTSTAMP:20260424T191543
CREATED:20251110T014005Z
LAST-MODIFIED:20251110T014052Z
UID:10001621-1735376400-1735379100@yogibelle.com
SUMMARY:Drop-in Gentle Yoga Class
DESCRIPTION:All levels welcomed but beginners of all ages and abilities will be helped through breathing techniques\, introductory poses\, and modifications. No equipment or experience is needed; just your body\, mind and energy.  You can use a mat or a chair\, blocks\, bolsters and bands for modifications.
URL:https://yogibelle.com/event/drop-in-gentle-yoga-class/2024-12-28/
LOCATION:Bella Terra\, 8920 Mill Grove Road\, Indian Trial\, North Carolina\, 28104\, United States
ATTACH;FMTTYPE=image/jpeg:https://yogibelle.com/wp-content/uploads/2023/06/IMG_8384-2-scaled.jpg
END:VEVENT
BEGIN:VEVENT
DTSTART;TZID=America/New_York:20241228T090000
DTEND;TZID=America/New_York:20241228T094500
DTSTAMP:20260424T191543
CREATED:20220206T012048Z
LAST-MODIFIED:20251110T013923Z
UID:10000373-1735376400-1735379100@yogibelle.com
SUMMARY:Drop-in Gentle Yoga Class
DESCRIPTION:Seated Warrior 1 Pose… \n\n\n\n\n\n\nAll levels welcomed but beginners of all ages and abilities will be helped through breathing techniques\, introductory poses\, and modifications. No equipment or experience is needed; just your body\, mind and energy.  You can use a mat or a chair\, blocks\, bolsters and bands for modifications.
URL:https://yogibelle.com/event/community-yoga-stevens-creek-nature-center/2024-12-28/
LOCATION:Bella Terra\, 8920 Mill Grove Road\, Indian Trial\, North Carolina\, 28104\, United States
ATTACH;FMTTYPE=image/jpeg:https://yogibelle.com/wp-content/uploads/2023/06/IMG_8384-2-scaled.jpg
END:VEVENT
BEGIN:VEVENT
DTSTART;TZID=America/New_York:20241221T100000
DTEND;TZID=America/New_York:20241221T110000
DTSTAMP:20260424T191543
CREATED:20250813T025107Z
LAST-MODIFIED:20251110T013711Z
UID:10001348-1734775200-1734778800@yogibelle.com
SUMMARY:Drop-in all levels community vinyasa yoga
DESCRIPTION:Supported Triangle Pose… \n\n\n\n\nWe must do yoga!  All levels welcomed but beginners of all ages and abilities will be helped through breathing techniques\, introductory poses\, and modifications.  No equipment or experience is needed; just your body\, mind and energy.  We will practice in the community room during the winter months\, indoor/outdoor during the spring\, and outdoor in the summer when weather permits.
URL:https://yogibelle.com/event/drop-in-all-levels-community-vinyasa-yoga-2/2024-12-21/
LOCATION:Bella Terra\, 8920 Mill Grove Road\, Indian Trial\, North Carolina\, 28104\, United States
ATTACH;FMTTYPE=image/jpeg:https://yogibelle.com/wp-content/uploads/2024/03/IMG_3210-edited-scaled.jpg
END:VEVENT
BEGIN:VEVENT
DTSTART;TZID=America/New_York:20241221T090000
DTEND;TZID=America/New_York:20241221T094500
DTSTAMP:20260424T191543
CREATED:20251110T014005Z
LAST-MODIFIED:20251110T014052Z
UID:10001620-1734771600-1734774300@yogibelle.com
SUMMARY:Drop-in Gentle Yoga Class
DESCRIPTION:All levels welcomed but beginners of all ages and abilities will be helped through breathing techniques\, introductory poses\, and modifications. No equipment or experience is needed; just your body\, mind and energy.  You can use a mat or a chair\, blocks\, bolsters and bands for modifications.
URL:https://yogibelle.com/event/drop-in-gentle-yoga-class/2024-12-21/
LOCATION:Bella Terra\, 8920 Mill Grove Road\, Indian Trial\, North Carolina\, 28104\, United States
ATTACH;FMTTYPE=image/jpeg:https://yogibelle.com/wp-content/uploads/2023/06/IMG_8384-2-scaled.jpg
END:VEVENT
BEGIN:VEVENT
DTSTART;TZID=America/New_York:20241221T090000
DTEND;TZID=America/New_York:20241221T094500
DTSTAMP:20260424T191543
CREATED:20220206T012048Z
LAST-MODIFIED:20251110T013923Z
UID:10000372-1734771600-1734774300@yogibelle.com
SUMMARY:Drop-in Gentle Yoga Class
DESCRIPTION:Seated Warrior 1 Pose… \n\n\n\n\n\n\nAll levels welcomed but beginners of all ages and abilities will be helped through breathing techniques\, introductory poses\, and modifications. No equipment or experience is needed; just your body\, mind and energy.  You can use a mat or a chair\, blocks\, bolsters and bands for modifications.
URL:https://yogibelle.com/event/community-yoga-stevens-creek-nature-center/2024-12-21/
LOCATION:Bella Terra\, 8920 Mill Grove Road\, Indian Trial\, North Carolina\, 28104\, United States
ATTACH;FMTTYPE=image/jpeg:https://yogibelle.com/wp-content/uploads/2023/06/IMG_8384-2-scaled.jpg
END:VEVENT
BEGIN:VEVENT
DTSTART;TZID=America/New_York:20241214T100000
DTEND;TZID=America/New_York:20241214T110000
DTSTAMP:20260424T191543
CREATED:20250813T025107Z
LAST-MODIFIED:20251110T013711Z
UID:10001347-1734170400-1734174000@yogibelle.com
SUMMARY:Drop-in all levels community vinyasa yoga
DESCRIPTION:Supported Triangle Pose… \n\n\n\n\nWe must do yoga!  All levels welcomed but beginners of all ages and abilities will be helped through breathing techniques\, introductory poses\, and modifications.  No equipment or experience is needed; just your body\, mind and energy.  We will practice in the community room during the winter months\, indoor/outdoor during the spring\, and outdoor in the summer when weather permits.
URL:https://yogibelle.com/event/drop-in-all-levels-community-vinyasa-yoga-2/2024-12-14/
LOCATION:Bella Terra\, 8920 Mill Grove Road\, Indian Trial\, North Carolina\, 28104\, United States
ATTACH;FMTTYPE=image/jpeg:https://yogibelle.com/wp-content/uploads/2024/03/IMG_3210-edited-scaled.jpg
END:VEVENT
BEGIN:VEVENT
DTSTART;TZID=America/New_York:20241214T090000
DTEND;TZID=America/New_York:20241214T094500
DTSTAMP:20260424T191543
CREATED:20251110T014005Z
LAST-MODIFIED:20251110T014052Z
UID:10001619-1734166800-1734169500@yogibelle.com
SUMMARY:Drop-in Gentle Yoga Class
DESCRIPTION:All levels welcomed but beginners of all ages and abilities will be helped through breathing techniques\, introductory poses\, and modifications. No equipment or experience is needed; just your body\, mind and energy.  You can use a mat or a chair\, blocks\, bolsters and bands for modifications.
URL:https://yogibelle.com/event/drop-in-gentle-yoga-class/2024-12-14/
LOCATION:Bella Terra\, 8920 Mill Grove Road\, Indian Trial\, North Carolina\, 28104\, United States
ATTACH;FMTTYPE=image/jpeg:https://yogibelle.com/wp-content/uploads/2023/06/IMG_8384-2-scaled.jpg
END:VEVENT
BEGIN:VEVENT
DTSTART;TZID=America/New_York:20241214T090000
DTEND;TZID=America/New_York:20241214T094500
DTSTAMP:20260424T191543
CREATED:20220206T012048Z
LAST-MODIFIED:20251110T013923Z
UID:10000371-1734166800-1734169500@yogibelle.com
SUMMARY:Drop-in Gentle Yoga Class
DESCRIPTION:Seated Warrior 1 Pose… \n\n\n\n\n\n\nAll levels welcomed but beginners of all ages and abilities will be helped through breathing techniques\, introductory poses\, and modifications. No equipment or experience is needed; just your body\, mind and energy.  You can use a mat or a chair\, blocks\, bolsters and bands for modifications.
URL:https://yogibelle.com/event/community-yoga-stevens-creek-nature-center/2024-12-14/
LOCATION:Bella Terra\, 8920 Mill Grove Road\, Indian Trial\, North Carolina\, 28104\, United States
ATTACH;FMTTYPE=image/jpeg:https://yogibelle.com/wp-content/uploads/2023/06/IMG_8384-2-scaled.jpg
END:VEVENT
BEGIN:VEVENT
DTSTART;TZID=America/New_York:20241207T100000
DTEND;TZID=America/New_York:20241207T110000
DTSTAMP:20260424T191543
CREATED:20250813T025107Z
LAST-MODIFIED:20251110T013711Z
UID:10001346-1733565600-1733569200@yogibelle.com
SUMMARY:Drop-in all levels community vinyasa yoga
DESCRIPTION:Supported Triangle Pose… \n\n\n\n\nWe must do yoga!  All levels welcomed but beginners of all ages and abilities will be helped through breathing techniques\, introductory poses\, and modifications.  No equipment or experience is needed; just your body\, mind and energy.  We will practice in the community room during the winter months\, indoor/outdoor during the spring\, and outdoor in the summer when weather permits.
URL:https://yogibelle.com/event/drop-in-all-levels-community-vinyasa-yoga-2/2024-12-07/
LOCATION:Bella Terra\, 8920 Mill Grove Road\, Indian Trial\, North Carolina\, 28104\, United States
ATTACH;FMTTYPE=image/jpeg:https://yogibelle.com/wp-content/uploads/2024/03/IMG_3210-edited-scaled.jpg
END:VEVENT
BEGIN:VEVENT
DTSTART;TZID=America/New_York:20241207T090000
DTEND;TZID=America/New_York:20241207T094500
DTSTAMP:20260424T191543
CREATED:20251110T014005Z
LAST-MODIFIED:20251110T014052Z
UID:10001618-1733562000-1733564700@yogibelle.com
SUMMARY:Drop-in Gentle Yoga Class
DESCRIPTION:All levels welcomed but beginners of all ages and abilities will be helped through breathing techniques\, introductory poses\, and modifications. No equipment or experience is needed; just your body\, mind and energy.  You can use a mat or a chair\, blocks\, bolsters and bands for modifications.
URL:https://yogibelle.com/event/drop-in-gentle-yoga-class/2024-12-07/
LOCATION:Bella Terra\, 8920 Mill Grove Road\, Indian Trial\, North Carolina\, 28104\, United States
ATTACH;FMTTYPE=image/jpeg:https://yogibelle.com/wp-content/uploads/2023/06/IMG_8384-2-scaled.jpg
END:VEVENT
BEGIN:VEVENT
DTSTART;TZID=America/New_York:20241207T090000
DTEND;TZID=America/New_York:20241207T094500
DTSTAMP:20260424T191543
CREATED:20220206T012048Z
LAST-MODIFIED:20251110T013923Z
UID:10000370-1733562000-1733564700@yogibelle.com
SUMMARY:Drop-in Gentle Yoga Class
DESCRIPTION:Seated Warrior 1 Pose… \n\n\n\n\n\n\nAll levels welcomed but beginners of all ages and abilities will be helped through breathing techniques\, introductory poses\, and modifications. No equipment or experience is needed; just your body\, mind and energy.  You can use a mat or a chair\, blocks\, bolsters and bands for modifications.
URL:https://yogibelle.com/event/community-yoga-stevens-creek-nature-center/2024-12-07/
LOCATION:Bella Terra\, 8920 Mill Grove Road\, Indian Trial\, North Carolina\, 28104\, United States
ATTACH;FMTTYPE=image/jpeg:https://yogibelle.com/wp-content/uploads/2023/06/IMG_8384-2-scaled.jpg
END:VEVENT
BEGIN:VEVENT
DTSTART;TZID=America/New_York:20241130T100000
DTEND;TZID=America/New_York:20241130T110000
DTSTAMP:20260424T191543
CREATED:20250813T025107Z
LAST-MODIFIED:20251110T013711Z
UID:10001345-1732960800-1732964400@yogibelle.com
SUMMARY:Drop-in all levels community vinyasa yoga
DESCRIPTION:Supported Triangle Pose… \n\n\n\n\nWe must do yoga!  All levels welcomed but beginners of all ages and abilities will be helped through breathing techniques\, introductory poses\, and modifications.  No equipment or experience is needed; just your body\, mind and energy.  We will practice in the community room during the winter months\, indoor/outdoor during the spring\, and outdoor in the summer when weather permits.
URL:https://yogibelle.com/event/drop-in-all-levels-community-vinyasa-yoga-2/2024-11-30/
LOCATION:Bella Terra\, 8920 Mill Grove Road\, Indian Trial\, North Carolina\, 28104\, United States
ATTACH;FMTTYPE=image/jpeg:https://yogibelle.com/wp-content/uploads/2024/03/IMG_3210-edited-scaled.jpg
END:VEVENT
BEGIN:VEVENT
DTSTART;TZID=America/New_York:20241130T090000
DTEND;TZID=America/New_York:20241130T094500
DTSTAMP:20260424T191543
CREATED:20251110T014005Z
LAST-MODIFIED:20251110T014052Z
UID:10001617-1732957200-1732959900@yogibelle.com
SUMMARY:Drop-in Gentle Yoga Class
DESCRIPTION:All levels welcomed but beginners of all ages and abilities will be helped through breathing techniques\, introductory poses\, and modifications. No equipment or experience is needed; just your body\, mind and energy.  You can use a mat or a chair\, blocks\, bolsters and bands for modifications.
URL:https://yogibelle.com/event/drop-in-gentle-yoga-class/2024-11-30/
LOCATION:Bella Terra\, 8920 Mill Grove Road\, Indian Trial\, North Carolina\, 28104\, United States
ATTACH;FMTTYPE=image/jpeg:https://yogibelle.com/wp-content/uploads/2023/06/IMG_8384-2-scaled.jpg
END:VEVENT
BEGIN:VEVENT
DTSTART;TZID=America/New_York:20241130T090000
DTEND;TZID=America/New_York:20241130T094500
DTSTAMP:20260424T191543
CREATED:20220206T012048Z
LAST-MODIFIED:20251110T013923Z
UID:10000369-1732957200-1732959900@yogibelle.com
SUMMARY:Drop-in Gentle Yoga Class
DESCRIPTION:Seated Warrior 1 Pose… \n\n\n\n\n\n\nAll levels welcomed but beginners of all ages and abilities will be helped through breathing techniques\, introductory poses\, and modifications. No equipment or experience is needed; just your body\, mind and energy.  You can use a mat or a chair\, blocks\, bolsters and bands for modifications.
URL:https://yogibelle.com/event/community-yoga-stevens-creek-nature-center/2024-11-30/
LOCATION:Bella Terra\, 8920 Mill Grove Road\, Indian Trial\, North Carolina\, 28104\, United States
ATTACH;FMTTYPE=image/jpeg:https://yogibelle.com/wp-content/uploads/2023/06/IMG_8384-2-scaled.jpg
END:VEVENT
BEGIN:VEVENT
DTSTART;TZID=America/New_York:20241123T100000
DTEND;TZID=America/New_York:20241123T110000
DTSTAMP:20260424T191543
CREATED:20250813T025107Z
LAST-MODIFIED:20251110T013711Z
UID:10001344-1732356000-1732359600@yogibelle.com
SUMMARY:Drop-in all levels community vinyasa yoga
DESCRIPTION:Supported Triangle Pose… \n\n\n\n\nWe must do yoga!  All levels welcomed but beginners of all ages and abilities will be helped through breathing techniques\, introductory poses\, and modifications.  No equipment or experience is needed; just your body\, mind and energy.  We will practice in the community room during the winter months\, indoor/outdoor during the spring\, and outdoor in the summer when weather permits.
URL:https://yogibelle.com/event/drop-in-all-levels-community-vinyasa-yoga-2/2024-11-23/
LOCATION:Bella Terra\, 8920 Mill Grove Road\, Indian Trial\, North Carolina\, 28104\, United States
ATTACH;FMTTYPE=image/jpeg:https://yogibelle.com/wp-content/uploads/2024/03/IMG_3210-edited-scaled.jpg
END:VEVENT
BEGIN:VEVENT
DTSTART;TZID=America/New_York:20241123T090000
DTEND;TZID=America/New_York:20241123T094500
DTSTAMP:20260424T191543
CREATED:20251110T014005Z
LAST-MODIFIED:20251110T014052Z
UID:10001616-1732352400-1732355100@yogibelle.com
SUMMARY:Drop-in Gentle Yoga Class
DESCRIPTION:All levels welcomed but beginners of all ages and abilities will be helped through breathing techniques\, introductory poses\, and modifications. No equipment or experience is needed; just your body\, mind and energy.  You can use a mat or a chair\, blocks\, bolsters and bands for modifications.
URL:https://yogibelle.com/event/drop-in-gentle-yoga-class/2024-11-23/
LOCATION:Bella Terra\, 8920 Mill Grove Road\, Indian Trial\, North Carolina\, 28104\, United States
ATTACH;FMTTYPE=image/jpeg:https://yogibelle.com/wp-content/uploads/2023/06/IMG_8384-2-scaled.jpg
END:VEVENT
END:VCALENDAR